BEGIN:VCALENDAR
VERSION:2.0
PRODID:-//Library Market//iCal Export//EN
BEGIN:VEVENT
SUMMARY:Shakespeare Project of Chicago Presents &quot;Antony &amp; Cleopat
 ra&quot;
UID:95443
DTSTAMP:20260421T144900Z
DTSTART:20260622T233000Z
DTEND:20260623T020000Z
LOCATION:Vernon Area Public Library, 300 Olde Half Day Rd, Lincolnshire, I
 L 60069, United States
ROOM: Meeting Room
DESCRIPTION:A Shakespearean tragedy depicting the intense, politically per
 ilous love affair between Mark Antony and Cleopatra, Queen of Egypt. The p
 rofessional players of the Shakespeare Project of Chicago present a full, 
 theatrical reading in the final performance of our 2025-2026 series. The 
 pre-show introduction begins at 6:15 p.m.This event is free and open to al
 l. Signup is required. Sign up online here, by telephone at 224-543-1485, 
 or in person at the library.
URL:https://calendar.vapld.info/event/shakespeare-project-chicago-presents
 -antony-cleopatra-95443
END:VEVENT
END:VCALENDAR
