BEGIN:VCALENDAR
VERSION:2.0
PRODID:-//Library Market//iCal Export//EN
BEGIN:VEVENT
SUMMARY:Exceptional Library Buildings of Chicago
UID:95442
DTSTAMP:20260421T144900Z
DTSTART:20260610T180000Z
DTEND:20260610T190000Z
LOCATION:Vernon Area Public Library, 300 Olde Half Day Rd, Lincolnshire, I
 L 60069, United States
ROOM: Meeting Room
DESCRIPTION:Chicago has a treasure trove of libraries that are architectur
 al gems. From the original library that is now the Cultural Center to a re
 cent branch in Chinatown, Laurie Petersen will show us stunning examples a
 ll over the city. This richly illustrated lecture will include some surpri
 sing works of specially-commissioned art. This event is free and open to
  all. Signup is required. Sign up online here, by telephone at 224-543-14
 85, or in person at the library. 
URL:https://calendar.vapld.info/event/chicago-libraries-95442
END:VEVENT
END:VCALENDAR
