BEGIN:VCALENDAR
VERSION:2.0
PRODID:-//Library Market//iCal Export//EN
BEGIN:VEVENT
SUMMARY:Plant the Library Garden - Adults
UID:95440
DTSTAMP:20260421T144900Z
DTSTART:20260609T150000Z
DTEND:20260609T160000Z
LOCATION:Vernon Area Public Library, 4 Indian Creek Rd., Lincolnshire, IL 
 60069, United States
ROOM: Library Learning Garden
DESCRIPTION:Adults. Learn about gardening basics, then dig in to plant veg
 etables in the library garden. Produce harvested from the Library Garden i
 s donated to the Vernon Township Food Pantry.This event is free and open t
 o all. Signup is required. Sign up online here, by telephone at 224-543-1
 485, or in person at the library.RAINDATE: June 10 at 4 p.m.Optional: Sign
  up for a week in summer to help tend the garden and deliver harvested veg
 etables to the nearby food pantry. Send an email to garden@VAPLD.info for 
 details.
URL:https://calendar.vapld.info/event/plant-library-garden-adults-95440
END:VEVENT
END:VCALENDAR
