BEGIN:VCALENDAR
VERSION:2.0
PRODID:-//Library Market//iCal Export//EN
BEGIN:VEVENT
SUMMARY:Art Workshop: Vintage-Style Seed Packet Illustrations (6:30 pm)
UID:94978
DTSTAMP:20260421T132000Z
DTSTART:20260714T233000Z
DTEND:20260715T010000Z
LOCATION:Vernon Area Public Library, 300 Olde Half Day Rd, Lincolnshire, I
 L 60069, United States
ROOM: Meeting Room
DESCRIPTION:Take inspiration from vintage seed packet designs—those char
 ming illustrations and hand-drawn lettering that feel nostalgic and artful
  —to create your own design. Sketch and watercolor your own seed packet,
  choosing a favorite flower or plant as the star.This event is free and op
 en to all. Signup is required. Sign up online here, by telephone at 224-5
 43-1485, or in person at the library.
URL:https://calendar.vapld.info/event/art-workshop-94978
END:VEVENT
END:VCALENDAR
