BEGIN:VCALENDAR
VERSION:2.0
PRODID:-//Library Market//iCal Export//EN
BEGIN:VEVENT
SUMMARY:Art Workshop: Vintage-Style Seed Packet Illustrations (4:30 pm)
UID:94977
DTSTAMP:20260421T132000Z
DTSTART:20260714T213000Z
DTEND:20260714T230000Z
LOCATION:Vernon Area Public Library, 300 Olde Half Day Rd, Lincolnshire, I
 L 60069, United States
ROOM: Meeting Room
DESCRIPTION:Take inspiration from vintage seed packet designs—those char
 ming illustrations and hand-drawn lettering that feel nostalgic and artful
 —to create your own design with art instructor Jennifer Evans. Sketch an
 d watercolor your own seed packet, choosing a favorite flower or plant as 
 the star.This event is free and open to all. Signup is required. Sign up o
 nline here, by telephone at 224-543-1485, or in person at the library. 
URL:https://calendar.vapld.info/event/art-workshop-94977
END:VEVENT
END:VCALENDAR
