BEGIN:VCALENDAR
VERSION:2.0
PRODID:-//Library Market//iCal Export//EN
BEGIN:VEVENT
SUMMARY:Take &amp; Make Kit: Celebrate Our America
UID:94354
DTSTAMP:20260424T141600Z
DTSTART:20260626T050000Z
DTEND:20260626T050000Z
LOCATION:Vernon Area Public Library, 300 Olde Half Day Rd, Lincolnshire, I
 L 60069, United States
ROOM: Take &amp; Make Kit: Celebrate Our America
DESCRIPTION:[Pickup] All ages. Ask for the craft when you visit the Youth 
 Desk in the library or the drive-up window during regular business hours. 
 While supplies last.Your kit will contain supplies to make the craft and s
 tep by step instructions. Colors and patterns may vary.  
URL:https://calendar.vapld.info/event/take-make-kit-94354
END:VEVENT
END:VCALENDAR
