BEGIN:VCALENDAR
VERSION:2.0
PRODID:-//Library Market//iCal Export//EN
BEGIN:VEVENT
SUMMARY:Outdoor Concert: Saddle Shoe Sisters
UID:93518
DTSTAMP:20260421T144900Z
DTSTART:20260615T180000Z
DTEND:20260615T190000Z
LOCATION:Vernon Area Public Library, 4 Indian Creek Rd., Lincolnshire, IL 
 60069, United States
ROOM: Library Learning Garden
DESCRIPTION:Step back in time with The Saddle Shoe Sisters as they perform
  classic hits from iconic girl groups of the 1940s–60s, complete with ti
 ght harmonies and vintage style.This event is free and open to all. Signup
  is required. Sign up online here, by telephone at 224-543-1485, or in pe
 rson at the library. 
URL:https://calendar.vapld.info/event/outdoor-concert-saddle-shoe-sisters-
 93518
END:VEVENT
END:VCALENDAR
