BEGIN:VCALENDAR
VERSION:2.0
PRODID:-//Library Market//iCal Export//EN
BEGIN:VEVENT
SUMMARY:World Language Movie Discussion: The Beasts (Online)
UID:93367
DTSTAMP:20260421T165400Z
DTSTART:20260820T000000Z
DTEND:20260820T010000Z
LOCATION:
DESCRIPTION:An expatriate French couple Antoine and Olga run an organic fa
 rm in the remote Spanish countryside, their idealism stirring quiet resent
 ment among the tight-knit locals who have worked the land for generations.
  What begins as a cultural clash curdles into open hostility in this edge-
 of-your-seat rural thriller, which premiered at the Cannes Film Festival a
 nd went on to win nine Goya Awards, including Best Film and Best Director.
 Watch this acclaimed movie on Kanopy (Vernon Area Public Library card re
 quired) or check out the DVD from the library. Then, join a discussion wit
 h fellow international cinema fans. This event is free and open to all. S
 ignup is required. Sign up online here, by telephone at 224-543-1485, or i
 n person at the library.
URL:https://calendar.vapld.info/event/world-language-movie-discussion-tbd-
 online-93367
END:VEVENT
END:VCALENDAR
