BEGIN:VCALENDAR
VERSION:2.0
PRODID:-//Library Market//iCal Export//EN
BEGIN:VEVENT
SUMMARY:World Language Movie Discussion: The Eight Mountains (Online)
UID:93366
DTSTAMP:20260421T144900Z
DTSTART:20260625T000000Z
DTEND:20260625T010000Z
LOCATION:
DESCRIPTION:An epic journey of friendship and self-discovery set in the It
 alian Alps. Adapting the award-winning novel by Paolo Cognetti, directors 
 Felix van Groeningen and Charlotte Vandermeersch portray through observant
  detail and stunning landscape photography the profound, complex relations
 hip between Pietro and Bruno, who first meet as children when Pietro’s M
 ilan family vacations in an isolated village at the base of the Alpine slo
 pes. As they mature, Pietro becomes estranged from his business-minded fat
 her even as Bruno takes up the role of surrogate son.Watch this acclaimed 
 movie on Kanopy (Vernon Area Public Library card required) or check out 
 the DVD or Blu-ray from the library. Then, join a discussion with fellow i
 nternational cinema fans. This event is free and open to all. Signup is r
 equired. Sign up online here, by telephone at 224-543-1485, or in person a
 t the library.
URL:https://calendar.vapld.info/eightmountains
END:VEVENT
END:VCALENDAR
