BEGIN:VCALENDAR
VERSION:2.0
PRODID:-//Library Market//iCal Export//EN
BEGIN:VEVENT
SUMMARY:Foundation for the Vernon Area Public Library District
UID:91869
DTSTAMP:20260424T073300Z
DTSTART:20260507T180000Z
DTEND:20260507T193000Z
LOCATION:Vernon Area Public Library, 300 Olde Half Day Rd, Lincolnshire, I
 L 60069, United States
ROOM: Youth Program Room
DESCRIPTION:Regular meeting of the Board of Directors of the Foundation fo
 r the Vernon Area Public Library District.
URL:https://calendar.vapld.info/event/foundation-vernon-area-public-librar
 y-district-91869
END:VEVENT
END:VCALENDAR
