BEGIN:VCALENDAR
VERSION:2.0
PRODID:-//Library Market//iCal Export//EN
BEGIN:VEVENT
SUMMARY:Personnel Committee Meeting
UID:101227
DTSTAMP:20260422T193000Z
DTSTART:20260522T000000Z
DTEND:20260522T020000Z
LOCATION:Vernon Area Public Library, 300 Olde Half Day Rd, Lincolnshire, I
 L 60069, United States
ROOM: Youth Program Room
DESCRIPTION:
URL:https://calendar.vapld.info/event/personnel-committee-meeting-101227
END:VEVENT
END:VCALENDAR
