BEGIN:VCALENDAR
VERSION:2.0
PRODID:-//Library Market//iCal Export//EN
BEGIN:VEVENT
SUMMARY:Author Spotlight:  The Legacy of Julia Child&#039;s Kitchen with A
 uthor and Smithsonian Curator Paula J. Johnson
UID:101201
DTSTAMP:20260422T013400Z
DTSTART:20260804T180000Z
DTEND:20260804T190000Z
LOCATION:
DESCRIPTION:Registration details coming soonJoin us for a conversation tha
 t’s sure to warm your heart (and make your stomach rumble), as we delve 
 into the legacy of cooking icon Julia Child with Smithsonian curator and p
 ublic historian Paula J. Johnson, author of Julia Child’s Kitchen: The
  Design, Tools, Stories, and Legacy of an Iconic Space. The book includes 
 interviews with chefs who knew Julia well, commentary on her favorite culi
 nary tools and kitchen gadgets, and a stunning array of photos.Julia Child
 &#039;s 20’ x 14’ kitchen was a serious workspace and recipe‑testing
  lab that exuded a sense of mid‑century homey comfort. It has been on di
 splay at the National Museum of American History in Washington, D.C., for 
 most of the past twenty-three years, and museum goers have made it a top d
 estination.The kitchen contains more than one thousand parts and pieces—
 tools, appliances, utensils, furniture, artwork, knick‑knacks, books, an
 d bits of whimsy—all reflecting Julia’s status as an accomplished chef
 , gastronome, delightful cooking teacher, television trailblazer, women’
 s advocate, mentor, and generous, jovial friend. Julia Child’s Kitchen 
 (and this online conversation) is a must‑have for every serious home coo
 k and Julia Child fan. Register now to enter the discussion and learn more
  about how Julia Child continues to influence food today! Vernon Area Pub
 lic Library showcases a virtual author talk series each month featuring be
 stselling, award-winning, and highly acclaimed authors from around the wor
 ld.  The featured writers and thought leaders will cover a wide range of
  fiction and nonfiction genres.    All programs are recorded and avai
 lable for later viewing. All events are free and open to the public.  F
 or more information or to register for the author talks, visit  https:/
 /libraryc.org/vapld
URL:https://calendar.vapld.info/event/author-spotlight-legacy-julia-childs
 -kitchen-author-and-smithsonian-curator-paula-j-johnson
END:VEVENT
END:VCALENDAR
