BEGIN:VCALENDAR
VERSION:2.0
PRODID:-//Library Market//iCal Export//EN
BEGIN:VEVENT
SUMMARY:NEW DATE: Microsoft Excel: Functions 3
UID:101033
DTSTAMP:20260421T133900Z
DTSTART:20260506T000000Z
DTEND:20260506T013000Z
LOCATION:Vernon Area Public Library, 300 Olde Half Day Rd, Lincolnshire, I
 L 60069, United States
ROOM: Youth Program Room
DESCRIPTION:The formulas &amp; functions series has been canceled.An intro
 duction to using Excel for harder calculations.Class is taught with Micros
 oft Excel 365. Prerequisite: Excel Basics or commensurate experience. Thi
 s event is free and open to ages 18 &amp; up. Signup is required. Sign up 
 online here, by telephone at 224-543-1485, or in person at the library.
URL:https://calendar.vapld.info/event/microsoft-excel-functions-3-101033
END:VEVENT
END:VCALENDAR
