BEGIN:VCALENDAR
VERSION:2.0
PRODID:-//Library Market//iCal Export//EN
BEGIN:VEVENT
SUMMARY:Author Spotlight:  Karin Slaughter, New York Times best-selling Cr
 ime Writer
UID:100639
DTSTAMP:20260421T132000Z
DTSTART:20260715T000000Z
DTEND:20260715T010000Z
LOCATION:
DESCRIPTION:Details coming soonVernon Area Public Library showcases a virt
 ual author talk series each month featuring bestselling, award-winning, an
 d highly acclaimed authors from around the world.  The featured writers 
 and thought leaders will cover a wide range of fiction and nonfiction genr
 es.   All programs are recorded and available for later viewing. All
  events are free and open to the public.  For more information or to reg
 ister for the author talks, visit  https://libraryc.org/vapld   
URL:https://calendar.vapld.info/event/author-spotlight-karin-slaughter-new
 -york-times-best-selling-crime-writer-100639
END:VEVENT
END:VCALENDAR
