BEGIN:VCALENDAR
VERSION:2.0
PRODID:-//Library Market//iCal Export//EN
BEGIN:VEVENT
SUMMARY:Joyspan: The Art and Science of Thriving in Life&#039;s Second Hal
 f  (Online)
UID:100267
DTSTAMP:20260421T144900Z
DTSTART:20260617T180000Z
DTEND:20260617T190000Z
LOCATION:
DESCRIPTION:Efforts to maximize lifespan and even healthspan don’t addr
 ess the whole picture of successful aging. The truest measure of good long
 evity, according to gerontologist Dr. Kerry Burnight, is not length but qu
 ality of life: one&#039;s sense of well-being, contentment, connection, gr
 owth, and choice.  In her bestselling book Joyspan: The Art and Science o
 f Thriving in Life&#039;s Second Half, she introduces the critical concept
  of joyspan, which focuses on maximizing meaning and purpose in later life
 . Join us for a conversation with Dr. Burnight as she shares the science, 
 personal stories, and practical strategies behind her joyspan approach tha
 t anyone, at any age, can adopt to make getting older better.   Named on
 e of TIME100’s Most Influential People in Health of 2026 Presented in p
 artnership with Glencoe Public Library, Highland Park Public Library, and 
 Vernon Area Public Library. This session will be recorded. 
URL:https://calendar.vapld.info/event/kerry-burnright-joyspan-online-10026
 7
END:VEVENT
END:VCALENDAR
