BEGIN:VCALENDAR
VERSION:2.0
PRODID:-//Library Market//iCal Export//EN
BEGIN:VEVENT
SUMMARY:Family Concert: Leonardo Music
UID:100235
DTSTAMP:20260424T174000Z
DTSTART:20260711T160000Z
DTEND:20260711T164500Z
LOCATION:Vernon Area Public Library, 4 Indian Creek Rd., Lincolnshire, IL 
 60069, United States
ROOM: Library Learning Garden
DESCRIPTION:All ages.  Bring your dancing shoes and best air guitar moves
 –it&#039;s time to go ROCKIN&#039; and READING with LEONARDO.  A Pa
 rents&#039; Choice Award-winning family musician from Chicago, Leonardo st
 rums with a humorous high-energy musical program that inspires little rock
 ers to become big readers! This highly interactive performance has plenty 
 of sing-a-longs and dance moves to inspire imagination, creativity and a l
 ove of reading in audiences of all ages and abilities.This event is free a
 nd open to families with children. Signup is required. Sign up online here
 , by telephone at 224-543-1486, or in person at the library.
URL:https://calendar.vapld.info/event/family-concert-leonardo-music-100235
END:VEVENT
END:VCALENDAR
