BEGIN:VCALENDAR
VERSION:2.0
PRODID:-//Library Market//iCal Export//EN
BEGIN:VEVENT
SUMMARY:Author Spotlight:  Marisa Franco, Platonic: How The Science of Att
 achment Can Help You Make—and Keep—Friends
UID:100104
DTSTAMP:20260421T144900Z
DTSTART:20260728T180000Z
DTEND:20260728T190000Z
LOCATION:
DESCRIPTION:Details coming soonVernon Area Public Library showcases a virt
 ual author talk series each month featuring bestselling, award-winning, an
 d highly acclaimed authors from around the world.  The featured writers 
 and thought leaders will cover a wide range of fiction and nonfiction genr
 es.   All programs are recorded and available for later viewing. All
  events are free and open to the public.  For more information or to reg
 ister for the author talks, visit  https://libraryc.org/vapld   
URL:https://calendar.vapld.info/event/author-spotlight-marisa-franco-plato
 nic-how-science-attachment-can-help-you-make-and-keep
END:VEVENT
END:VCALENDAR
